BEGIN:VCALENDAR
VERSION:2.0
PRODID:spatie/icalendar-generator
DESCRIPTION:Events from Gloucester Fleet
X-WR-CALDESC:Events from Gloucester Fleet
REFRESH-INTERVAL;VALUE=DURATION:PT1440M
X-PUBLISHED-TTL:PT1440M
BEGIN:VTIMEZONE
TZID:America/New_York
BEGIN:STANDARD
DTSTART:20251102T020000Z
TZOFFSETFROM:-0400
TZOFFSETTO:-0500
END:STANDARD
BEGIN:DAYLIGHT
DTSTART:20260308T020000Z
TZOFFSETFROM:-0500
TZOFFSETTO:-0400
END:DAYLIGHT
END:VTIMEZONE
BEGIN:VTIMEZONE
TZID:UTC
BEGIN:STANDARD
DTSTART:20250725T172848Z
TZOFFSETFROM:+0000
TZOFFSETTO:+0000
END:STANDARD
END:VTIMEZONE
BEGIN:VEVENT
UID:1963-1695
DTSTAMP:20260421T172848Z
SUMMARY:All Day Fishing
LOCATION:
ORGANIZER;CN=GloucesterFleet:MAILTO:gloucesterfleet@live.com
DTSTART;TZID=America/New_York:20260411T070000
DTEND;TZID=America/New_York:20260411T160000
X-ALT-DESC;FMTTYPE=TEXT/HTML:All Day Fishing 7am - 4pm $100.00 PERSON Inclu
 des rod &amp;amp\; reel\, bait\, hooks and first sinker 35-person limit on the
  boat
CATEGORIES:Fishing Trip
URL;VALUE=URI:https://gloucesterfleet.com/schedule/?mc_id=1963
METHOD:PUBLISH
END:VEVENT
BEGIN:VEVENT
UID:1960-1692
DTSTAMP:20260421T172848Z
SUMMARY:All Day Fishing
LOCATION:
ORGANIZER;CN=GloucesterFleet:MAILTO:gloucesterfleet@live.com
DTSTART;TZID=America/New_York:20260412T070000
DTEND;TZID=America/New_York:20260412T160000
X-ALT-DESC;FMTTYPE=TEXT/HTML:All Day Fishing 7am - 4pm $100.00 PERSON Inclu
 des rod &amp;amp\; reel\, bait\, hooks and first sinker 35-person limit on the
  boat
CATEGORIES:Fishing Trip
URL;VALUE=URI:https://gloucesterfleet.com/schedule/?mc_id=1960
METHOD:PUBLISH
END:VEVENT
BEGIN:VEVENT
UID:1957-1689
DTSTAMP:20260421T172848Z
SUMMARY:Marathon Trip
LOCATION:
ORGANIZER;CN=GloucesterFleet:MAILTO:gloucesterfleet@live.com
DTSTART;TZID=America/New_York:20260418T050000
DTEND;TZID=America/New_York:20260418T170000
X-ALT-DESC;FMTTYPE=TEXT/HTML:MARATHON TRIP 5am - 5pm $125.00 Per Person rod
  &amp;amp\; reel\, bait\, hooks and first sinker included. &amp;nbsp\; 35-person l
 imited capacity. &amp;nbsp\; This is the ultimate trip for the avid angler!  
 This is not for the faint at heart. A FULL 12-hour day on the water allows
  you to get to those far away fishing&amp;hellip\;
CATEGORIES:Marathon Trips
URL;VALUE=URI:https://gloucesterfleet.com/schedule/?mc_id=1957
METHOD:PUBLISH
END:VEVENT
BEGIN:VEVENT
UID:1966-1698
DTSTAMP:20260421T172848Z
SUMMARY:All Day Fishing
LOCATION:
ORGANIZER;CN=GloucesterFleet:MAILTO:gloucesterfleet@live.com
DTSTART;TZID=America/New_York:20260419T060000
DTEND;TZID=America/New_York:20260419T150000
X-ALT-DESC;FMTTYPE=TEXT/HTML:All Day Fishing 6am - 3pm $100.00 PERSON Inclu
 des rod &amp;amp\; reel\, bait\, hooks and first sinker 35-person limit on the
  boat
CATEGORIES:Fishing Trip
URL;VALUE=URI:https://gloucesterfleet.com/schedule/?mc_id=1966
METHOD:PUBLISH
END:VEVENT
BEGIN:VEVENT
UID:1964-1696
DTSTAMP:20260421T172848Z
SUMMARY:All Day Fishing
LOCATION:
ORGANIZER;CN=GloucesterFleet:MAILTO:gloucesterfleet@live.com
DTSTART;TZID=America/New_York:20260425T070000
DTEND;TZID=America/New_York:20260425T160000
X-ALT-DESC;FMTTYPE=TEXT/HTML:All Day Fishing 7am - 4pm $100.00 PERSON Inclu
 des rod &amp;amp\; reel\, bait\, hooks and first sinker 35-person limit on the
  boat
CATEGORIES:Fishing Trip
URL;VALUE=URI:https://gloucesterfleet.com/schedule/?mc_id=1964
METHOD:PUBLISH
END:VEVENT
BEGIN:VEVENT
UID:1965-1697
DTSTAMP:20260421T172848Z
SUMMARY:All Day Fishing
LOCATION:
ORGANIZER;CN=GloucesterFleet:MAILTO:gloucesterfleet@live.com
DTSTART;TZID=America/New_York:20260426T070000
DTEND;TZID=America/New_York:20260426T160000
X-ALT-DESC;FMTTYPE=TEXT/HTML:All Day Fishing 7am - 4pm $100.00 PERSON Inclu
 des rod &amp;amp\; reel\, bait\, hooks and first sinker 35-person limit on the
  boat
CATEGORIES:Fishing Trip
URL;VALUE=URI:https://gloucesterfleet.com/schedule/?mc_id=1965
METHOD:PUBLISH
END:VEVENT
END:VCALENDAR